BEGIN:VCALENDAR
VERSION:2.0
PRODID:-//Skills Centre - ECPv4.6.2//NONSGML v1.0//EN
CALSCALE:GREGORIAN
METHOD:PUBLISH
X-WR-CALNAME:Skills Centre
X-ORIGINAL-URL:http://skillscentre.ucc.ie
X-WR-CALDESC:Events for Skills Centre
BEGIN:VEVENT
DTSTART;TZID=Europe/Dublin:20171004T150000
DTEND;TZID=Europe/Dublin:20171004T170000
DTSTAMP:20171029T235415
CREATED:20170915T213926Z
LAST-MODIFIED:20170915T213926Z
UID:881-1507129200-1507136400@skillscentre.ucc.ie
SUMMARY:Drop-In Zone
DESCRIPTION:The Skills Centre Drop in Zone is a time where you can call to the Skills Centre without being booked into a skills session or having an appointment. When the drop in zone is busy be prepared to have to wait to see an advisor. You can can request an appointment by emailing skillscentre@ucc.ie. \n
URL:http://skillscentre.ucc.ie/event/drop-zone-6-5/
LOCATION:Basement of the Boole Library\, UCC\, T12 ND89
ATTACH;FMTTYPE=image/jpeg:http://skillscentre.ucc.ie/wp-content/uploads/sites/60/2017/09/Footprint-2.jpg
ORGANIZER;CN="UCC%20Skills%20Centre":MAILTO:skillscentre@ucc.ie
END:VEVENT
END:VCALENDAR