BEGIN:VCALENDAR
VERSION:2.0
PRODID:-//Skills Centre - ECPv4.6.2//NONSGML v1.0//EN
CALSCALE:GREGORIAN
METHOD:PUBLISH
X-WR-CALNAME:Skills Centre
X-ORIGINAL-URL:http://skillscentre.ucc.ie
X-WR-CALDESC:Events for Skills Centre
BEGIN:VEVENT
DTSTART;TZID=Europe/Dublin:20171002T150000
DTEND;TZID=Europe/Dublin:20171002T160000
DTSTAMP:20171029T235038
CREATED:20170915T205736Z
LAST-MODIFIED:20170915T205736Z
UID:866-1506956400-1506960000@skillscentre.ucc.ie
SUMMARY:Grammar and Punctuation
DESCRIPTION:Proper grammar\, sentence structure and paragraph structure are essential and indispensable in life\, including academic research. Without proper grammar effective communication is diminished.The Skills Centre sessions will take your grammar and language skills to a new level. The Skills Centre Tutors will deconstruct words\, sentences and whole paragraphs with you. You will be shown how to rebuild the sentences so that your arguments make sense. \nThe sessions are delivered over two hours\, split into 2 x 1 hour sessions. Grammar and Punctuation and Sentence and Paragraph structure. You can book them separately\, but we advise that you book session 1 and 2 at at the same time to make sure you have secured your seat. \nBook Now \n
URL:http://skillscentre.ucc.ie/event/grammar-punctuation-2-3/
LOCATION:Basement of the Boole Library\, UCC\, T12 ND89
CATEGORIES:Skills Session
ATTACH;FMTTYPE=image/jpeg:http://skillscentre.ucc.ie/wp-content/uploads/sites/60/2017/09/grammar-389907_1920.jpg
ORGANIZER;CN="UCC%20Skills%20Centre":MAILTO:skillscentre@ucc.ie
END:VEVENT
END:VCALENDAR