BEGIN:VCALENDAR
VERSION:2.0
PRODID:-//Skills Centre - ECPv4.6.2//NONSGML v1.0//EN
CALSCALE:GREGORIAN
METHOD:PUBLISH
X-WR-CALNAME:Skills Centre
X-ORIGINAL-URL:http://skillscentre.ucc.ie
X-WR-CALDESC:Events for Skills Centre
BEGIN:VEVENT
DTSTART;TZID=Europe/Dublin:20171003T100000
DTEND;TZID=Europe/Dublin:20171003T110000
DTSTAMP:20171029T235205
CREATED:20170915T210651Z
LAST-MODIFIED:20170915T210651Z
UID:868-1507024800-1507028400@skillscentre.ucc.ie
SUMMARY:Note-taking
DESCRIPTION:Note-taking is a key academic skill that allows you to record important information. At university level\, the amount of information that is shared with you can be enormous. It is essential to develop a system that will allow you to record that information in a manner you can easily access and retrieve it.  Book now to secure your place. \nBook Now \n
URL:http://skillscentre.ucc.ie/event/note-taking-20/
LOCATION:Basement of the Boole Library\, UCC\, T12 ND89
ATTACH;FMTTYPE=image/jpeg:http://skillscentre.ucc.ie/wp-content/uploads/sites/60/2017/08/writing-1685838_1920.jpg
ORGANIZER;CN="UCC%20Skills%20Centre":MAILTO:skillscentre@ucc.ie
END:VEVENT
END:VCALENDAR