BEGIN:VCALENDAR
VERSION:2.0
PRODID:-//Skills Centre - ECPv4.6.2//NONSGML v1.0//EN
CALSCALE:GREGORIAN
METHOD:PUBLISH
X-WR-CALNAME:Skills Centre
X-ORIGINAL-URL:http://skillscentre.ucc.ie
X-WR-CALDESC:Events for Skills Centre
BEGIN:VEVENT
DTSTART;TZID=Europe/Dublin:20171004T170000
DTEND;TZID=Europe/Dublin:20171004T180000
DTSTAMP:20171029T235433
CREATED:20170915T213713Z
LAST-MODIFIED:20170915T213713Z
UID:879-1507136400-1507140000@skillscentre.ucc.ie
SUMMARY:Sentance and Paragraph Structure
DESCRIPTION:Proper sentence and paragraph structure allow ideas to be communicated. Without this skill your written communications\, including your assignments\, will not deliver a clear message. A poorly written paragraph can obscure the main ideas that are presented. It can be very difficult for the reader to follow the author’s logic and it may lead to confusion and even mis-interpretation. \nKnowing how to construct sentences properly along with the correct use of paragraphs will be valuable as you approach your writing. It will allow you to communicate your ideas in a clear and comprehensive way and let you showcase your knowledge. \nFollowing this session you will be able to diagnose areas within your writing that you  need to work on to improve your sentence and paragraph construction.  \nBook Now \n
URL:http://skillscentre.ucc.ie/event/sentance-paragraph-structure/
LOCATION:Basement of the Boole Library\, UCC\, T12 ND89
ATTACH;FMTTYPE=image/jpeg:http://skillscentre.ucc.ie/wp-content/uploads/sites/60/2017/09/Writing-structure.jpg
ORGANIZER;CN="UCC%20Skills%20Centre":MAILTO:skillscentre@ucc.ie
END:VEVENT
END:VCALENDAR