BEGIN:VCALENDAR
VERSION:2.0
PRODID:-//Skills Centre - ECPv4.6.2//NONSGML v1.0//EN
CALSCALE:GREGORIAN
METHOD:PUBLISH
X-WR-CALNAME:Skills Centre
X-ORIGINAL-URL:http://skillscentre.ucc.ie
X-WR-CALDESC:Events for Skills Centre
BEGIN:VEVENT
DTSTART;TZID=Europe/Dublin:20171004T100000
DTEND;TZID=Europe/Dublin:20171004T110000
DTSTAMP:20171029T235356
CREATED:20170915T213157Z
LAST-MODIFIED:20170915T213157Z
UID:877-1507111200-1507114800@skillscentre.ucc.ie
SUMMARY:Sentence and Paragraph Structure
DESCRIPTION:  \n\n\n\nProper sentence and paragraph structure allow ideas to be communicated. Without this skill your written communications\, including your assignments\, will not deliver a clear message. A poorly written paragraph can obscure the main ideas that are presented. It can be very difficult for the reader to follow the authorâ€™s logic and it may lead to confusion and even mis-interpretation. \nKnowing how to construct sentences properly along with the correct use of paragraphs will be valuable as you approach your writing. It will allow you to communicate your ideas in a clear and comprehensive way and let you showcase your knowledge. \nFollowing this session you will be able to diagnose areas within your writing that you Â need to work on to improve your sentence and paragraph construction. \n\n\n\nBook Now \n
URL:http://skillscentre.ucc.ie/event/sentence-paragraph-structure-3/
LOCATION:Basement of the Boole Library\, UCC\, T12 ND89
ATTACH;FMTTYPE=image/jpeg:http://skillscentre.ucc.ie/wp-content/uploads/sites/60/2017/09/Writing-structure.jpg
ORGANIZER;CN="UCC%20Skills%20Centre":MAILTO:skillscentre@ucc.ie
END:VEVENT
END:VCALENDAR