BEGIN:VCALENDAR
VERSION:2.0
PRODID:-//Skills Centre - ECPv4.6.2//NONSGML v1.0//EN
CALSCALE:GREGORIAN
METHOD:PUBLISH
X-WR-CALNAME:Skills Centre
X-ORIGINAL-URL:http://skillscentre.ucc.ie
X-WR-CALDESC:Events for Skills Centre
BEGIN:VEVENT
DTSTART;TZID=UTC+0:20170911T110000
DTEND;TZID=UTC+0:20170911T120000
DTSTAMP:20171030T001933
CREATED:20170810T140957Z
LAST-MODIFIED:20170827T194329Z
UID:552-1505127600-1505131200@skillscentre.ucc.ie
SUMMARY:Time Management
DESCRIPTION:During the Time Management session the tutor will explore different strategies for planning your time. This will involve setting clear goals for the division of your time and helping you to break these goals into achievable steps. Reviewing your progress and learning to prioritise will help you to gain insight into how to achieve the study/work/social life balance. \nBook Now          Read More \n
URL:http://skillscentre.ucc.ie/event/time-management/
LOCATION:Basement of the Boole Library\, UCC\, T12 ND89
ORGANIZER;CN="UCC%20Skills%20Centre":MAILTO:skillscentre@ucc.ie
END:VEVENT
BEGIN:VEVENT
DTSTART;TZID=Europe/Dublin:20170911T120000
DTEND;TZID=Europe/Dublin:20170911T130000
DTSTAMP:20171030T001933
CREATED:20170827T201858Z
LAST-MODIFIED:20170827T201858Z
UID:600-1505131200-1505134800@skillscentre.ucc.ie
SUMMARY:Drop in Zone
DESCRIPTION:The Skills Centre Drop in Zone is a time where you can call to the Skills Centre without being booked into a skills session or having an appointment. When the drop in zone is busy be prepared to have to wait to see an advisor. You can can request an appointment by emailing skillscentre@ucc.ie. \n
URL:http://skillscentre.ucc.ie/event/drop-zone-2/
ORGANIZER;CN="UCC%20Skills%20Centre":MAILTO:skillscentre@ucc.ie
END:VEVENT
BEGIN:VEVENT
DTSTART;TZID=Europe/Dublin:20170911T130000
DTEND;TZID=Europe/Dublin:20170911T140000
DTSTAMP:20171030T001933
CREATED:20170827T204816Z
LAST-MODIFIED:20170827T204816Z
UID:613-1505134800-1505138400@skillscentre.ucc.ie
SUMMARY:Brookfield Study Skills
DESCRIPTION:Note : this session takes place in Brookfield Library \nStudy Skills are the skills that you need to develop in order to study and learn effectively. In time you will develop your own personal study plan to suit the way you learn. Exploration of learning styles and study tips will help you to create that plan.  \nBy attending the Skills Centre Study Skills session you will begin to understand what being a learner in university means. It will introduce strategies that will help you transition to\, and progress through university life. Read more here \nBook Now \n
URL:http://skillscentre.ucc.ie/event/study-skills-4/
LOCATION:Brookfielf Health Sciences Building UCC\, Cork\, Ireland
ORGANIZER;CN="UCC%20Skills%20Centre":MAILTO:skillscentre@ucc.ie
END:VEVENT
BEGIN:VEVENT
DTSTART;TZID=Europe/Dublin:20170911T140000
DTEND;TZID=Europe/Dublin:20170911T150000
DTSTAMP:20171030T001933
CREATED:20170827T203003Z
LAST-MODIFIED:20170908T193832Z
UID:608-1505138400-1505142000@skillscentre.ucc.ie
SUMMARY:Note-taking
DESCRIPTION:Note-taking is a key academic skill that allows you to record important information. At university level\, the amount of information that is shared with you can be enormous. It is essential to develop a system that will allow you to record that information in a manner you can easily access and retrieve it.  \nRead More          Book Now \n
URL:http://skillscentre.ucc.ie/event/note-taking-3/
LOCATION:Basement of the Boole Library\, UCC\, T12 ND89
ORGANIZER;CN="UCC%20Skills%20Centre":MAILTO:skillscentre@ucc.ie
END:VEVENT
BEGIN:VEVENT
DTSTART;TZID=Europe/Dublin:20170911T150000
DTEND;TZID=Europe/Dublin:20170911T160000
DTSTAMP:20171030T001933
CREATED:20170827T203715Z
LAST-MODIFIED:20170908T193947Z
UID:610-1505142000-1505145600@skillscentre.ucc.ie
SUMMARY:Study Skills
DESCRIPTION:Study Skills are the skills that you need to develop in order to study and learn effectively. In time you will develop your own personal study plan to suit the way you learn. Exploration of learning styles and study tips will help you to create that plan.  \nBy attending the Skills Centre Study Skills session you will begin to understand what being a learner in university means. It will introduce strategies that will help you transition to\, and progress through university life. Read More Here \nBook Now \n
URL:http://skillscentre.ucc.ie/event/study-skills-3/
LOCATION:Basement of the Boole Library\, UCC\, T12 ND89
ORGANIZER;CN="UCC%20Skills%20Centre":MAILTO:skillscentre@ucc.ie
END:VEVENT
END:VCALENDAR