BEGIN:VCALENDAR
VERSION:2.0
PRODID:-//Skills Centre - ECPv4.6.2//NONSGML v1.0//EN
CALSCALE:GREGORIAN
METHOD:PUBLISH
X-WR-CALNAME:Skills Centre
X-ORIGINAL-URL:http://skillscentre.ucc.ie
X-WR-CALDESC:Events for Skills Centre
BEGIN:VEVENT
DTSTART;TZID=Europe/Dublin:20170914T110000
DTEND;TZID=Europe/Dublin:20170914T120000
DTSTAMP:20171030T002033
CREATED:20170828T141354Z
LAST-MODIFIED:20170828T142105Z
UID:624-1505386800-1505390400@skillscentre.ucc.ie
SUMMARY:Time Management
DESCRIPTION:During the Time Management session the tutor will explore different strategies for planning your time. This will involve setting clear goals for the division of your time and helping you to break these goals into achievable steps. Reviewing your progress and learning to prioritise will help you to gain insight into how to achieve the study/work/social life balance. Read More \nBook Now \n
URL:http://skillscentre.ucc.ie/event/time-management-5/
LOCATION:Basement of the Boole Library\, UCC\, T12 ND89
ATTACH;FMTTYPE=image/jpeg:http://skillscentre.ucc.ie/wp-content/uploads/sites/60/2017/07/Time-Management.jpg
ORGANIZER;CN="UCC%20Skills%20Centre":MAILTO:skillscentre@ucc.ie
END:VEVENT
BEGIN:VEVENT
DTSTART;TZID=Europe/Dublin:20170914T120000
DTEND;TZID=Europe/Dublin:20170914T130000
DTSTAMP:20171030T002033
CREATED:20170827T202448Z
LAST-MODIFIED:20170827T202448Z
UID:606-1505390400-1505394000@skillscentre.ucc.ie
SUMMARY:Drop in Zone
DESCRIPTION:The Skills Centre Drop in Zone is a time where you can call to the Skills Centre without being booked into a skills session or having an appointment. When the drop in zone is busy be prepared to have to wait to see an advisor. You can can request an appointment by emailing skillscentre@ucc.ie. \n
URL:http://skillscentre.ucc.ie/event/drop-zone-4/
LOCATION:Basement of the Boole Library\, UCC\, T12 ND89
ORGANIZER;CN="UCC%20Skills%20Centre":MAILTO:skillscentre@ucc.ie
END:VEVENT
BEGIN:VEVENT
DTSTART;TZID=Europe/Dublin:20170914T140000
DTEND;TZID=Europe/Dublin:20170914T150000
DTSTAMP:20171030T002033
CREATED:20170828T142448Z
LAST-MODIFIED:20170828T142547Z
UID:627-1505397600-1505401200@skillscentre.ucc.ie
SUMMARY:Note-taking
DESCRIPTION:Note-taking is a key academic skill that allows you to record important information. At university level\, the amount of information that is shared with you can be enormous. It is essential to develop a system that will allow you to record that information in a manner you can easily access and retrieve it.   \nEffective Note Taking is a time saving tool that can produce study aids that will help with revision at the end of the semester. Fostering good note taking skills will allow you to become an active and effective reader helping you to analyse\, reflect and question the material as you go. \nJoin us as we explore note-taking possibilities with you. \nRead More Here…  \nBook Now \n
URL:http://skillscentre.ucc.ie/event/note-taking-6/
LOCATION:Basement of the Boole Library\, UCC\, T12 ND89
ORGANIZER;CN="UCC%20Skills%20Centre":MAILTO:skillscentre@ucc.ie
END:VEVENT
BEGIN:VEVENT
DTSTART;TZID=Europe/Dublin:20170914T150000
DTEND;TZID=Europe/Dublin:20170914T160000
DTSTAMP:20171030T002033
CREATED:20170828T143324Z
LAST-MODIFIED:20170828T143324Z
UID:630-1505401200-1505404800@skillscentre.ucc.ie
SUMMARY:Study Skills
DESCRIPTION:Study Skills are the skills that you need to develop in order to study and learn effectively. In time you will develop your own personal study plan to suit the way you learn. Exploration of learning styles and study tips will help you to create that plan.  \nBy attending the Skills Centre Study Skills session you will begin to understand what being a learner in university means. It will introduce strategies that will help you transition to\, and progress through university life. \nRead More here…  \nBook Now \n
URL:http://skillscentre.ucc.ie/event/study-skills-7/
LOCATION:Basement of the Boole Library\, UCC\, T12 ND89
ORGANIZER;CN="UCC%20Skills%20Centre":MAILTO:skillscentre@ucc.ie
END:VEVENT
BEGIN:VEVENT
DTSTART;TZID=Europe/Dublin:20170914T170000
DTEND;TZID=Europe/Dublin:20170914T180000
DTSTAMP:20171030T002033
CREATED:20170828T153944Z
LAST-MODIFIED:20170828T153944Z
UID:638-1505408400-1505412000@skillscentre.ucc.ie
SUMMARY:Microsoft Word
DESCRIPTION:These practical sessions will take you through the functionality of Microsoft Word showing you how to line-space\, indent\, format and file. Understanding the functionality of the software will help you to work more effectively saving you time and effort and leaving more time for researching\, writing and proof reading. Read More&#8230;. \nBook Now \n
URL:http://skillscentre.ucc.ie/event/microsoft-word-3/
LOCATION:Basement of the Boole Library\, UCC\, T12 ND89
ORGANIZER;CN="UCC%20Skills%20Centre":MAILTO:skillscentre@ucc.ie
END:VEVENT
BEGIN:VEVENT
DTSTART;TZID=Europe/Dublin:20170914T180000
DTEND;TZID=Europe/Dublin:20170914T190000
DTSTAMP:20171030T002033
CREATED:20170828T143725Z
LAST-MODIFIED:20170828T143735Z
UID:632-1505412000-1505415600@skillscentre.ucc.ie
SUMMARY:Study Skills
DESCRIPTION:Study Skills are the skills that you need to develop in order to study and learn effectively. In time you will develop your own personal study plan to suit the way you learn. Exploration of learning styles and study tips will help you to create that plan.  \nBy attending the Skills Centre Study Skills session you will begin to understand what being a learner in university means. It will introduce strategies that will help you transition to\, and progress through university life. \nRead More here…  \nBook Now \n
URL:http://skillscentre.ucc.ie/event/study-skills-8/
LOCATION:Basement of the Boole Library\, UCC\, T12 ND89
ORGANIZER;CN="UCC%20Skills%20Centre":MAILTO:skillscentre@ucc.ie
END:VEVENT
END:VCALENDAR